BEGIN:VCALENDAR
VERSION:2.0
PRODID:spatie/icalendar-generator
DESCRIPTION:日本女子テニス連盟大分県支部のイベント
X-WR-CALDESC:日本女子テニス連盟大分県支部のイベント
REFRESH-INTERVAL;VALUE=DURATION:PT1440M
X-PUBLISHED-TTL:PT1440M
BEGIN:VTIMEZONE
TZID:Etc/GMT-9
BEGIN:STANDARD
DTSTART:20220804T000000Z
TZOFFSETFROM:+0900
TZOFFSETTO:+0900
END:STANDARD
END:VTIMEZONE
BEGIN:VTIMEZONE
TZID:UTC
BEGIN:STANDARD
DTSTART:20250723T194529Z
TZOFFSETFROM:+0000
TZOFFSETTO:+0000
END:STANDARD
END:VTIMEZONE
BEGIN:VEVENT
UID:287-195
DTSTAMP:20260419T194529Z
SUMMARY:桑名杯掲示日
LOCATION:
ORGANIZER;CN=おおいた:MAILTO:hp@jltfoita.jp
DTSTART;TZID=Etc/GMT-9;VALUE=DATE:20230501
DTEND;TZID=Etc/GMT-9;VALUE=DATE:20230502
X-ALT-DESC;FMTTYPE=TEXT/HTML:桑名杯レディーステニス大会２０
 ２３掲示日
CATEGORIES:掲示日
URL;VALUE=URI:https://jltfoita.jp/?mc-events=%e6%a1%91%e5%90%8d%e6%9d%af%e6
 %8e%b2%e7%a4%ba%e6%97%a5-3
METHOD:PUBLISH
END:VEVENT
END:VCALENDAR