BEGIN:VCALENDAR
VERSION:2.0
PRODID:spatie/icalendar-generator
DESCRIPTION:日本女子テニス連盟大分県支部のイベント
X-WR-CALDESC:日本女子テニス連盟大分県支部のイベント
REFRESH-INTERVAL;VALUE=DURATION:PT1440M
X-PUBLISHED-TTL:PT1440M
BEGIN:VTIMEZONE
TZID:Etc/GMT-9
BEGIN:STANDARD
DTSTART:20220827T200000Z
TZOFFSETFROM:+0900
TZOFFSETTO:+0900
END:STANDARD
END:VTIMEZONE
BEGIN:VTIMEZONE
TZID:UTC
BEGIN:STANDARD
DTSTART:20250723T162207Z
TZOFFSETFROM:+0000
TZOFFSETTO:+0000
END:STANDARD
END:VTIMEZONE
BEGIN:VEVENT
UID:285-193
DTSTAMP:20260419T162207Z
SUMMARY:桑名杯締切
LOCATION:
ORGANIZER;CN=おおいた:MAILTO:hp@jltfoita.jp
DTSTART;TZID=Etc/GMT-9:20230524T200000
DTEND;TZID=Etc/GMT-9:20230524T200000
X-ALT-DESC;FMTTYPE=TEXT/HTML:桑名杯締切日　２０時必着 &amp;nbsp\;
CATEGORIES:締切
URL;VALUE=URI:https://jltfoita.jp/?mc-events=%e6%a1%91%e5%90%8d%e6%9d%af%e7
 %b7%a0%e5%88%87-3
METHOD:PUBLISH
END:VEVENT
END:VCALENDAR